BEGIN:VCALENDAR
VERSION:2.0
PRODID:-//MashupLou - ECPv6.15.20//NONSGML v1.0//EN
CALSCALE:GREGORIAN
METHOD:PUBLISH
X-WR-CALNAME:MashupLou
X-ORIGINAL-URL:https://mashuplou.com
X-WR-CALDESC:Events for MashupLou
REFRESH-INTERVAL;VALUE=DURATION:PT1H
X-Robots-Tag:noindex
X-PUBLISHED-TTL:PT1H
BEGIN:VTIMEZONE
TZID:America/New_York
BEGIN:DAYLIGHT
TZOFFSETFROM:-0500
TZOFFSETTO:-0400
TZNAME:EDT
DTSTART:20250309T070000
END:DAYLIGHT
BEGIN:STANDARD
TZOFFSETFROM:-0400
TZOFFSETTO:-0500
TZNAME:EST
DTSTART:20251102T060000
END:STANDARD
BEGIN:DAYLIGHT
TZOFFSETFROM:-0500
TZOFFSETTO:-0400
TZNAME:EDT
DTSTART:20260308T070000
END:DAYLIGHT
BEGIN:STANDARD
TZOFFSETFROM:-0400
TZOFFSETTO:-0500
TZNAME:EST
DTSTART:20261101T060000
END:STANDARD
BEGIN:DAYLIGHT
TZOFFSETFROM:-0500
TZOFFSETTO:-0400
TZNAME:EDT
DTSTART:20270314T070000
END:DAYLIGHT
BEGIN:STANDARD
TZOFFSETFROM:-0400
TZOFFSETTO:-0500
TZNAME:EST
DTSTART:20271107T060000
END:STANDARD
END:VTIMEZONE
BEGIN:VEVENT
DTSTART;TZID=America/New_York:20260421T120000
DTEND;TZID=America/New_York:20260421T150000
DTSTAMP:20260419T084125
CREATED:20260409T132915Z
LAST-MODIFIED:20260409T133943Z
UID:939-1776772800-1776783600@mashuplou.com
SUMMARY:Mahjong Lunch Club @ Mashup
DESCRIPTION:Mahjong Lunch Club at MashupTuesdays | 12:00–3:00 PM \nTake a midday break and join us for Mahjong Lunch Club—a relaxed\, come-and-go gathering built around good food\, sharp minds\, and shared tables. Whether you’re a seasoned player or learning the game\, all are welcome to pull up a seat. \nSettle in with lunch from your favorite vendor\, connect with fellow players\, and enjoy a few rounds in a laid-back\, social atmosphere. Come for the game\, stay for the community.
URL:https://mashuplou.com/calendar/mahjong-lunch-club-mashup/
LOCATION:Kentucky
END:VEVENT
BEGIN:VEVENT
DTSTART;TZID=America/New_York:20260422T160000
DTEND;TZID=America/New_York:20260422T200000
DTSTAMP:20260419T084125
CREATED:20260409T141641Z
LAST-MODIFIED:20260409T141641Z
UID:942-1776873600-1776888000@mashuplou.com
SUMMARY:Half-Priced Wine Night at Mashup Bar
DESCRIPTION:Half-Priced Wine Night at Mashup BarWednesdays | All Evening \nMidweek just got an upgrade. Join us every Wednesday at the Mashup Bar for half-priced bottles of wine all evening long—no special occasion required. \nPair it with happy hour pricing running all night\, and you have a standing invitation to slow down\, settle in\, and share a bottle (or two). Whether it’s a casual meet-up or a midweek reset\, this is your reason to stay awhile.
URL:https://mashuplou.com/calendar/half-priced-wine-night-at-mashup-bar-3/
LOCATION:Kentucky
END:VEVENT
BEGIN:VEVENT
DTSTART;TZID=America/New_York:20260423T160000
DTEND;TZID=America/New_York:20260423T180000
DTSTAMP:20260419T084125
CREATED:20260402T162338Z
LAST-MODIFIED:20260402T183422Z
UID:882-1776960000-1776967200@mashuplou.com
SUMMARY:Hops & Lox Happy Hour
DESCRIPTION:Join us Thursday April\, 23rd from 4p – 6p for the launch of of new Happy Hour program featuring Lox prepared by Cold Smoke Bagels and Hops sponsored by Goodwood Brewery.  \nHappy Hour includes a hands-on culinary workshop led by Cold Smoke Bagels introducing participants to the technique\, culture\, and ritual of cold-curing salmon (Gravlox)\, followed by guided slicing\, plating\, and communal eating + drinking. \n Our upcoming launch features a special “Hops & Lox” edition pairing gravlox with seasonal IPA selections from Goodwood Brewery\, creating a structured flavor dialogue between salt\, fat\, smoke\, and hops. \nTickets are $20 and include a complementary starter IPA from our partners at Goodwood Brewery.
URL:https://mashuplou.com/calendar/hops-lox-happy-hour/
LOCATION:Mashup Food Hall\, 750 East Jefferson Street\, Louisville\, Kentucky\, 40202\, United States
ORGANIZER;CN="Mashup":MAILTO:michael@mashuplou.com
END:VEVENT
BEGIN:VEVENT
DTSTART;TZID=America/New_York:20260423T183000
DTEND;TZID=America/New_York:20260423T203000
DTSTAMP:20260419T084125
CREATED:20260409T132134Z
LAST-MODIFIED:20260409T132237Z
UID:936-1776969000-1776976200@mashuplou.com
SUMMARY:Trivia Night @ Mashup
DESCRIPTION:Trivia Nights at MashupThursdays | 6:30–8:30 PM \nBring your crew and put your knowledge to work at Mashup’s weekly Trivia Night. From pop culture and history to the beautifully obscure\, each round offers a reason to argue confidently and celebrate collectively. \nCompete for 1st\, 2nd\, and 3rd place prizes\, including Mashup Bar gift cards and Day “Hall Passes” to Genuine Work coworking. \nSettle in\, grab a drink\, and make an evening of it—drink specials and happy hour pricing run all night long.
URL:https://mashuplou.com/calendar/trivia-night-mashup-6/
LOCATION:Mashup Food Hall\, 750 East Jefferson Street\, Louisville\, Kentucky\, 40202\, United States
END:VEVENT
BEGIN:VEVENT
DTSTART;TZID=America/New_York:20260425T090000
DTEND;TZID=America/New_York:20260425T100000
DTSTAMP:20260419T084125
CREATED:20260331T185228Z
LAST-MODIFIED:20260331T185228Z
UID:856-1777107600-1777111200@mashuplou.com
SUMMARY:Saturday Morning Calisthenic Workouts w/ Valerie Mills
DESCRIPTION:Start your Saturday with movement and momentum. Join Valerie Mills for an all-levels calisthenic workout designed to build strength\, mobility\, and collective energy—no equipment\, no intimidation\, just purposeful movement. \nThe workout is followed by a walking meetup with the Louisville Girls Walking Group\, creating space for connection\, conversation\, and an easy transition from exercise to community care. \nAll levels welcome. Sneakers encouraged. \n$10 at the door\, or pay in advance through Venmo direct to host @vbmills (Valerie Mills).
URL:https://mashuplou.com/calendar/saturday-morning-calisthenic-workouts-w-valerie-mills-8/
LOCATION:Mashup Food Hall\, 750 East Jefferson Street\, Louisville\, Kentucky\, 40202\, United States
END:VEVENT
BEGIN:VEVENT
DTSTART;TZID=America/New_York:20260428T120000
DTEND;TZID=America/New_York:20260428T150000
DTSTAMP:20260419T084125
CREATED:20260409T160959Z
LAST-MODIFIED:20260409T160959Z
UID:946-1777377600-1777388400@mashuplou.com
SUMMARY:Mahjong Lunch Club at Mashup
DESCRIPTION:Mahjong Lunch Club at MashupTuesdays | 12:00–3:00 PM \nTake a midday break and join us for Mahjong Lunch Club—a relaxed\, come-and-go gathering built around good food\, sharp minds\, and shared tables. Whether you’re a seasoned player or learning the game\, all are welcome to pull up a seat. \nSettle in with lunch from your favorite vendor\, connect with fellow players\, and enjoy a few rounds in a laid-back\, social atmosphere. Come for the game\, stay for the community.
URL:https://mashuplou.com/calendar/mahjong-lunch-club-at-mashup-3/
LOCATION:Mashup Food Hall\, 750 East Jefferson Street\, Louisville\, Kentucky\, 40202\, United States
ORGANIZER;CN="Mashup":MAILTO:michael@mashuplou.com
END:VEVENT
BEGIN:VEVENT
DTSTART;TZID=America/New_York:20260429T160000
DTEND;TZID=America/New_York:20260429T200000
DTSTAMP:20260419T084125
CREATED:20260409T141554Z
LAST-MODIFIED:20260409T143119Z
UID:941-1777478400-1777492800@mashuplou.com
SUMMARY:Half-Priced Wine Night at Mashup Bar
DESCRIPTION:Half-Priced Wine Night at Mashup BarWednesdays | All Evening \nMidweek just got an upgrade. Join us every Wednesday at the Mashup Bar for half-priced bottles of wine all evening long—no special occasion required. \nPair it with happy hour pricing running all night\, and you have a standing invitation to slow down\, settle in\, and share a bottle (or two). Whether it’s a casual meet-up or a midweek reset\, this is your reason to stay awhile.
URL:https://mashuplou.com/calendar/half-priced-wine-night-at-mashup-bar-2/
LOCATION:Mashup Food Hall\, 750 East Jefferson Street\, Louisville\, Kentucky\, 40202\, United States
ORGANIZER;CN="Mashup":MAILTO:michael@mashuplou.com
END:VEVENT
END:VCALENDAR